Index of /checkResults/devel/bioc-LATEST/fcScan/raw-results/palomino4

[ICO]NameLast modifiedSizeDescription

[DIR]Parent Directory  -  
[TXT]buildbin-out.txt30-Sep-2023 01:03 1.1K 
[   ]buildbin-summary.dcf30-Sep-2023 01:03 509  
[TXT]buildsrc-out.txt30-Sep-2023 01:03 834  
[   ]buildsrc-summary.dcf30-Sep-2023 01:03 446  
[TXT]checksrc-out.txt30-Sep-2023 01:03 3.2K 
[   ]checksrc-summary.dcf30-Sep-2023 01:03 443  
[TXT]install-out.txt30-Sep-2023 01:03 959  
[   ]install-summary.dcf30-Sep-2023 01:03 266