Index of /checkResults/devel/bioc-LATEST/fcScan/raw-results/palomino3

[ICO]NameLast modifiedSizeDescription

[DIR]Parent Directory  -  
[TXT]buildbin-out.txt23-Feb-2024 02:48 1.1K 
[   ]buildbin-summary.dcf23-Feb-2024 02:48 509  
[TXT]buildsrc-out.txt23-Feb-2024 02:48 834  
[   ]buildsrc-summary.dcf23-Feb-2024 02:48 448  
[TXT]checksrc-out.txt23-Feb-2024 02:48 3.2K 
[   ]checksrc-summary.dcf23-Feb-2024 02:48 443  
[TXT]install-out.txt23-Feb-2024 02:48 959  
[   ]install-summary.dcf23-Feb-2024 02:48 266