Index of /checkResults/devel/bioc-LATEST/fcScan/raw-results/nebbiolo1

[ICO]NameLast modifiedSizeDescription

[DIR]Parent Directory  -  
[TXT]buildsrc-out.txt02-Mar-2024 01:36 802  
[   ]buildsrc-summary.dcf02-Mar-2024 01:36 412  
[TXT]checksrc-out.txt02-Mar-2024 01:36 3.1K 
[   ]checksrc-summary.dcf02-Mar-2024 01:36 410  
[TXT]install-out.txt02-Mar-2024 01:36 949  
[   ]install-summary.dcf02-Mar-2024 01:36 257