![]() | Name | Last modified | Size | Description |
---|---|---|---|---|
![]() | Parent Directory | - | ||
![]() | buildbin-out.txt | 01-Oct-2023 00:38 | 1.1K | |
![]() | buildbin-summary.dcf | 01-Oct-2023 00:38 | 524 | |
![]() | buildsrc-out.txt | 01-Oct-2023 00:38 | 812 | |
![]() | buildsrc-summary.dcf | 01-Oct-2023 00:38 | 424 | |
![]() | checksrc-out.txt | 01-Oct-2023 00:38 | 3.2K | |
![]() | checksrc-summary.dcf | 01-Oct-2023 00:38 | 440 | |
![]() | install-out.txt | 01-Oct-2023 00:38 | 1.0K | |
![]() | install-summary.dcf | 01-Oct-2023 00:38 | 267 | |