Back to Multiple platform build/check report for BioC 3.17
ABCDE[F]GHIJKLMNOPQRSTUVWXYZ

This page was generated on 2023-01-28 11:05:27 -0500 (Sat, 28 Jan 2023).

HostnameOSArch (*)R versionInstalled pkgs
nebbiolo1Linux (Ubuntu 22.04.1 LTS)x86_64R Under development (unstable) (2023-01-10 r83596) -- "Unsuffered Consequences" 4465
palomino3Windows Server 2022 Datacenterx64R Under development (unstable) (2023-01-10 r83596 ucrt) -- "Unsuffered Consequences" 4246
merida1macOS 10.14.6 Mojavex86_64R Under development (unstable) (2023-01-10 r83596) -- "Unsuffered Consequences" 4269
Click on any hostname to see more info about the system (e.g. compilers)      (*) as reported by 'uname -p', except on Windows and Mac OS X

CHECK results for fcScan on nebbiolo1


To the developers/maintainers of the fcScan package:
- Please allow up to 24 hours (and sometimes 48 hours) for your latest push to git@git.bioconductor.org:packages/fcScan.git to
reflect on this report. See How and When does the builder pull? When will my changes propagate? for more information.
- Make sure to use the following settings in order to reproduce any error or warning you see on this page.

raw results

Package 658/2162HostnameOS / ArchINSTALLBUILDCHECKBUILD BIN
fcScan 1.13.0  (landing page)
Pierre Khoueiry Abdullah El-Kurdi
Snapshot Date: 2023-01-27 14:00:19 -0500 (Fri, 27 Jan 2023)
git_url: https://git.bioconductor.org/packages/fcScan
git_branch: master
git_last_commit: 4f8702f
git_last_commit_date: 2022-11-01 11:20:20 -0500 (Tue, 01 Nov 2022)
nebbiolo1Linux (Ubuntu 22.04.1 LTS) / x86_64  OK    OK    OK  UNNEEDED, same version is already published
palomino3Windows Server 2022 Datacenter / x64  OK    OK    OK    NA  
merida1macOS 10.14.6 Mojave / x86_64  OK    OK    OK    OK  UNNEEDED, same version is already published

Summary

Package: fcScan
Version: 1.13.0
Command: /home/biocbuild/bbs-3.17-bioc/R/bin/R CMD check --install=check:fcScan.install-out.txt --library=/home/biocbuild/bbs-3.17-bioc/R/library --timings fcScan_1.13.0.tar.gz
StartedAt: 2023-01-27 20:31:39 -0500 (Fri, 27 Jan 2023)
EndedAt: 2023-01-27 20:37:03 -0500 (Fri, 27 Jan 2023)
EllapsedTime: 323.8 seconds
RetCode: 0
Status:   OK  
CheckDir: fcScan.Rcheck
Warnings: 0

Command output

##############################################################################
##############################################################################
###
### Running command:
###
###   /home/biocbuild/bbs-3.17-bioc/R/bin/R CMD check --install=check:fcScan.install-out.txt --library=/home/biocbuild/bbs-3.17-bioc/R/library --timings fcScan_1.13.0.tar.gz
###
##############################################################################
##############################################################################


* using log directory ‘/home/biocbuild/bbs-3.17-bioc/meat/fcScan.Rcheck’
* using R Under development (unstable) (2023-01-10 r83596)
* using platform: x86_64-pc-linux-gnu (64-bit)
* R was compiled by
    gcc (Ubuntu 11.3.0-1ubuntu1~22.04) 11.3.0
    GNU Fortran (Ubuntu 11.3.0-1ubuntu1~22.04) 11.3.0
* running under: Ubuntu 22.04.1 LTS
* using session charset: UTF-8
* checking for file ‘fcScan/DESCRIPTION’ ... OK
* checking extension type ... Package
* this is package ‘fcScan’ version ‘1.13.0’
* package encoding: UTF-8
* checking package namespace information ... OK
* checking package dependencies ... OK
* checking if this is a source package ... OK
* checking if there is a namespace ... OK
* checking for hidden files and directories ... OK
* checking for portable file names ... OK
* checking for sufficient/correct file permissions ... OK
* checking whether package ‘fcScan’ can be installed ... OK
* checking installed package size ... OK
* checking package directory ... OK
* checking ‘build’ directory ... OK
* checking DESCRIPTION meta-information ... OK
* checking top-level files ... OK
* checking for left-over files ... OK
* checking index information ... OK
* checking package subdirectories ... OK
* checking R files for non-ASCII characters ... OK
* checking R files for syntax errors ... OK
* checking whether the package can be loaded ... OK
* checking whether the package can be loaded with stated dependencies ... OK
* checking whether the package can be unloaded cleanly ... OK
* checking whether the namespace can be loaded with stated dependencies ... OK
* checking whether the namespace can be unloaded cleanly ... OK
* checking dependencies in R code ... OK
* checking S3 generic/method consistency ... OK
* checking replacement functions ... OK
* checking foreign function calls ... OK
* checking R code for possible problems ... OK
* checking Rd files ... OK
* checking Rd metadata ... OK
* checking Rd cross-references ... OK
* checking for missing documentation entries ... OK
* checking for code/documentation mismatches ... OK
* checking Rd \usage sections ... OK
* checking Rd contents ... OK
* checking for unstated dependencies in examples ... OK
* checking files in ‘vignettes’ ... OK
* checking examples ... OK
* checking for unstated dependencies in ‘tests’ ... OK
* checking tests ...
  Running ‘runTests.R’
 OK
* checking for unstated dependencies in vignettes ... OK
* checking package vignettes in ‘inst/doc’ ... OK
* checking running R code from vignettes ...
  ‘fcScan_vignette.Rmd’ using ‘UTF8’... OK
 NONE
* checking re-building of vignette outputs ... OK
* checking PDF version of manual ... OK
* DONE

Status: OK


Installation output

fcScan.Rcheck/00install.out

##############################################################################
##############################################################################
###
### Running command:
###
###   /home/biocbuild/bbs-3.17-bioc/R/bin/R CMD INSTALL fcScan
###
##############################################################################
##############################################################################


* installing to library ‘/home/biocbuild/bbs-3.17-bioc/R/library’
* installing *source* package ‘fcScan’ ...
** using staged installation
** R
** inst
** byte-compile and prepare package for lazy loading
** help
*** installing help indices
** building package indices
** installing vignettes
** testing if installed package can be loaded from temporary location
** testing if installed package can be loaded from final location
** testing if installed package keeps a record of temporary installation path
* DONE (fcScan)

Tests output

fcScan.Rcheck/tests/runTests.Rout


R Under development (unstable) (2023-01-10 r83596) -- "Unsuffered Consequences"
Copyright (C) 2023 The R Foundation for Statistical Computing
Platform: x86_64-pc-linux-gnu (64-bit)

R is free software and comes with ABSOLUTELY NO WARRANTY.
You are welcome to redistribute it under certain conditions.
Type 'license()' or 'licence()' for distribution details.

R is a collaborative project with many contributors.
Type 'contributors()' for more information and
'citation()' on how to cite R or R packages in publications.

Type 'demo()' for some demos, 'help()' for on-line help, or
'help.start()' for an HTML browser interface to help.
Type 'q()' to quit R.

> BiocGenerics:::testPackage("fcScan")
Loading required package: GenomicRanges
Loading required package: stats4
Loading required package: BiocGenerics

Attaching package: 'BiocGenerics'

The following objects are masked from 'package:stats':

    IQR, mad, sd, var, xtabs

The following objects are masked from 'package:base':

    Filter, Find, Map, Position, Reduce, anyDuplicated, aperm, append,
    as.data.frame, basename, cbind, colnames, dirname, do.call,
    duplicated, eval, evalq, get, grep, grepl, intersect, is.unsorted,
    lapply, mapply, match, mget, order, paste, pmax, pmax.int, pmin,
    pmin.int, rank, rbind, rownames, sapply, setdiff, sort, table,
    tapply, union, unique, unsplit, which.max, which.min

Loading required package: S4Vectors

Attaching package: 'S4Vectors'

The following objects are masked from 'package:base':

    I, expand.grid, unname

Loading required package: IRanges
Loading required package: GenomeInfoDb
17  entries loaded 
Running getCluster using 1 threads
Time difference of 0.2349331 secs
Sites in condition do not match sites in data
3  entries loaded 
Running getCluster using 1 threads
Time difference of 0.09315872 secs
17  entries loaded 
Running getCluster using 1 threads
Time difference of 0.09431767 secs
17  entries loaded 
Running getCluster using 1 threads
Time difference of 0.09720516 secs
17  entries loaded 
Running getCluster using 1 threads
No cluster found
17  entries loaded 
Running getCluster using 1 threads
Time difference of 0.109458 secs
17  entries loaded 
Running getCluster using 1 threads
Time difference of 0.08241057 secs
17  entries loaded 
Running getCluster using 1 threads
Time difference of 0.1019685 secs
17  entries loaded 
Running getCluster using 1 threads
Time difference of 0.08514881 secs
17  entries loaded 
Running getCluster using 1 threads
Time difference of 0.09883499 secs
17  entries loaded 
Running getCluster using 1 threads
Time difference of 0.08733344 secs
6  entries loaded 
Running getCluster using 1 threads
Time difference of 0.08069062 secs
6  entries loaded 
Running getCluster using 1 threads
Time difference of 0.06015515 secs
6  entries loaded 
Running getCluster using 1 threads
Time difference of 0.08022022 secs
6  entries loaded 
Running getCluster using 1 threads
Time difference of 0.103296 secs
10  entries loaded 
Running getCluster using 1 threads
Time difference of 0.09916711 secs
10  entries loaded 
Running getCluster using 1 threads
No cluster found
10  entries loaded 
Running getCluster using 1 threads
Time difference of 0.07215405 secs
16  entries loaded 
Running getCluster using 1 threads
Time difference of 0.05647659 secs
6  entries loaded 
Running getCluster using 1 threads
Time difference of 0.08208776 secs
6  entries loaded 
Running getCluster using 1 threads
Time difference of 0.05984974 secs
6  entries loaded 
Running getCluster using 1 threads
Time difference of 0.06325054 secs
6  entries loaded 
Running getCluster using 1 threads
Time difference of 0.06391406 secs
6  entries loaded 
Running getCluster using 1 threads
Time difference of 0.06492805 secs
17  entries loaded 
Running getCluster using 1 threads
Time difference of 0.08971381 secs
17  entries loaded 
Running getCluster using 1 threads
Time difference of 0.07799029 secs
17  entries loaded 
Running getCluster using 1 threads
Time difference of 0.08091736 secs
17  entries loaded 
Running getCluster using 1 threads
Time difference of 0.09045815 secs
17  entries loaded 
Running getCluster using 1 threads
Time difference of 0.06200171 secs
17  entries loaded 
Running getCluster using 1 threads
Time difference of 0.05541658 secs
17  entries loaded 
Running getCluster using 1 threads
Time difference of 0.05828834 secs
17  entries loaded 
Running getCluster using 1 threads
Time difference of 0.08455133 secs
17  entries loaded 
Running getCluster using 1 threads
Time difference of 0.09790421 secs
17  entries loaded 
Running getCluster using 1 threads
Time difference of 0.1081598 secs
17  entries loaded 
Running getCluster using 1 threads
Time difference of 0.1107867 secs
17  entries loaded 
Running getCluster using 1 threads
Time difference of 0.1031313 secs
17  entries loaded 
Running getCluster using 1 threads
Time difference of 0.1291571 secs
17  entries loaded 
Running getCluster using 1 threads
Time difference of 0.09217381 secs
17  entries loaded 
Running getCluster using 1 threads
Time difference of 0.07427788 secs
17  entries loaded 
Running getCluster using 1 threads
Time difference of 0.1029708 secs
17  entries loaded 
Running getCluster using 1 threads
Time difference of 0.07558227 secs
17  entries loaded 
Running getCluster using 1 threads
Time difference of 0.1092396 secs
17  entries loaded 
Running getCluster using 1 threads
Time difference of 0.1006618 secs
17  entries loaded 
Running getCluster using 1 threads
Time difference of 0.1478412 secs


RUNIT TEST PROTOCOL -- Fri Jan 27 20:36:44 2023 
*********************************************** 
Number of test functions: 1 
Number of errors: 0 
Number of failures: 0 

 
1 Test Suite : 
fcScan RUnit Tests - 1 test function, 0 errors, 0 failures
Number of test functions: 1 
Number of errors: 0 
Number of failures: 0 
> 
> proc.time()
   user  system elapsed 
 16.982   1.211  18.687 

Example timings

fcScan.Rcheck/fcScan-Ex.timings

nameusersystemelapsed
getCluster0.2580.0150.290