Back to Multiple platform build/check report for BioC 3.15
ABCDE[F]GHIJKLMNOPQRSTUVWXYZ

This page was generated on 2022-01-28 11:07:44 -0500 (Fri, 28 Jan 2022).

HostnameOSArch (*)R versionInstalled pkgs
nebbiolo1Linux (Ubuntu 20.04.4 LTS)x86_64R Under development (unstable) (2022-01-05 r81451) -- "Unsuffered Consequences" 4167
riesling1Windows Server 2019 Standardx64R Under development (unstable) (2021-11-21 r81221) -- "Unsuffered Consequences" 4062
palomino3Windows Server 2022 Datacenterx64R Under development (unstable) (2021-12-21 r81400 ucrt) -- "Unsuffered Consequences" 4004
merida1macOS 10.14.6 Mojavex86_64R Under development (unstable) (2022-01-05 r81451) -- "Unsuffered Consequences" 4121
Click on any hostname to see more info about the system (e.g. compilers)      (*) as reported by 'uname -p', except on Windows and Mac OS X

BUILD BIN results for fastseg on riesling1


To the developers/maintainers of the fastseg package:
- Please allow up to 24 hours (and sometimes 48 hours) for your latest push to git@git.bioconductor.org:packages/fastseg.git to
reflect on this report. See How and When does the builder pull? When will my changes propagate? here for more information.
- Make sure to use the following settings in order to reproduce any error or warning you see on this page.

raw results

Package 626/2077HostnameOS / ArchINSTALLBUILDCHECKBUILD BIN
fastseg 1.41.0  (landing page)
Guenter Klambauer
Snapshot Date: 2022-01-27 13:55:17 -0500 (Thu, 27 Jan 2022)
git_url: https://git.bioconductor.org/packages/fastseg
git_branch: master
git_last_commit: 4a320b1
git_last_commit_date: 2021-10-26 12:01:23 -0500 (Tue, 26 Oct 2021)
nebbiolo1Linux (Ubuntu 20.04.4 LTS) / x86_64  OK    OK    WARNINGS  UNNEEDED, same version is already published
riesling1Windows Server 2019 Standard / x64  OK    OK    WARNINGS    OK  
palomino3Windows Server 2022 Datacenter / x64  OK    OK    WARNINGS    OK  NO, package depends on 'GenomicRanges' which is not available
merida1macOS 10.14.6 Mojave / x86_64  OK    OK    WARNINGS    OK  UNNEEDED, same version is already published

Summary

Package: fastseg
Version: 1.41.0
Command: rm -rf fastseg.buildbin-libdir && mkdir fastseg.buildbin-libdir && D:\biocbuild\bbs-3.15-bioc\R\bin\R.exe CMD INSTALL --build --library=fastseg.buildbin-libdir fastseg_1.41.0.tar.gz
StartedAt: 2022-01-27 20:57:50 -0500 (Thu, 27 Jan 2022)
EndedAt: 2022-01-27 20:58:44 -0500 (Thu, 27 Jan 2022)
EllapsedTime: 53.9 seconds
RetCode: 0
Status:   OK  
PackageFile: fastseg_1.41.0.zip
PackageFileSize: 794.8 KiB

Command output

##############################################################################
##############################################################################
###
### Running command:
###
###   rm -rf fastseg.buildbin-libdir && mkdir fastseg.buildbin-libdir && D:\biocbuild\bbs-3.15-bioc\R\bin\R.exe CMD INSTALL --build --library=fastseg.buildbin-libdir fastseg_1.41.0.tar.gz
###
##############################################################################
##############################################################################


* installing *source* package 'fastseg' ...
** using staged installation
** libs
"C:/rtools40/mingw64/bin/"gcc  -I"D:/biocbuild/bbs-3.15-bioc/R/include" -DNDEBUG     -I"C:/extsoft/include"     -O2 -Wall  -std=gnu99 -mfpmath=sse -msse2 -mstackrealign -fno-reorder-blocks-and-partition  -c R_init_fastseg.c -o R_init_fastseg.o
"C:/rtools40/mingw64/bin/"g++ -std=gnu++11  -I"D:/biocbuild/bbs-3.15-bioc/R/include" -DNDEBUG     -I"C:/extsoft/include"     -O2 -Wall  -mfpmath=sse -msse2 -mstackrealign -fno-reorder-blocks-and-partition  -c segment.cpp -o segment.o
segment.cpp: In function 'SEXPREC* segment(SEXP, SEXP, SEXP, SEXP, SEXP, SEXP, SEXP)':
segment.cpp:60:20: warning: variable 'globalSd' set but not used [-Wunused-but-set-variable]
  double globalMean,globalSd,diff,M2,globalVariance;
                    ^~~~~~~~
segment.cpp:61:9: warning: variable 'oldStatistic' set but not used [-Wunused-but-set-variable]
  double oldStatistic, meanLeft,meanRight,varLeft,varRight;
         ^~~~~~~~~~~~
segment.cpp:62:31: warning: variable 'maxStatistic' set but not used [-Wunused-but-set-variable]
  double newStatistic,meanDiff,maxStatistic,DOF,a,b,eps1;
                               ^~~~~~~~~~~~
segment.cpp:63:40: warning: variable 'maxIdx' set but not used [-Wunused-but-set-variable]
  double newPValue, maxPValue,oldPValue,maxIdx;
                                        ^~~~~~
In file included from segment.cpp:10:
D:/biocbuild/bbs-3.15-bioc/R/include/Rmath.h:209:15: warning: unused variable 'Rf_beta' [-Wunused-variable]
 #define beta  Rf_beta
               ^~~~~~~
segment.cpp:65:9: note: in expansion of macro 'beta'
  double beta,nn;
         ^~~~
"C:/rtools40/mingw64/bin/"g++ -std=gnu++11  -I"D:/biocbuild/bbs-3.15-bioc/R/include" -DNDEBUG     -I"C:/extsoft/include"     -O2 -Wall  -mfpmath=sse -msse2 -mstackrealign -fno-reorder-blocks-and-partition  -c segmentCyberT.cpp -o segmentCyberT.o
segmentCyberT.cpp: In function 'SEXPREC* segmentCyberT(SEXP, SEXP, SEXP, SEXP, SEXP, SEXP, SEXP, SEXP)':
segmentCyberT.cpp:59:20: warning: variable 'globalSd' set but not used [-Wunused-but-set-variable]
  double globalMean,globalSd,diff,M2,globalVariance;
                    ^~~~~~~~
segmentCyberT.cpp:60:9: warning: variable 'oldStatistic' set but not used [-Wunused-but-set-variable]
  double oldStatistic,meanLeft,meanRight,varLeft,varRight;
         ^~~~~~~~~~~~
segmentCyberT.cpp:61:31: warning: variable 'maxStatistic' set but not used [-Wunused-but-set-variable]
  double newStatistic,meanDiff,maxStatistic,DOF,a,b,eps1;
                               ^~~~~~~~~~~~
In file included from segmentCyberT.cpp:10:
D:/biocbuild/bbs-3.15-bioc/R/include/Rmath.h:209:15: warning: unused variable 'Rf_beta' [-Wunused-variable]
 #define beta  Rf_beta
               ^~~~~~~
segmentCyberT.cpp:63:50: note: in expansion of macro 'beta'
  double newStatisticBptLeft,newStatisticBptRight,beta,nn;
                                                  ^~~~
C:/rtools40/mingw64/bin/g++ -std=gnu++11 -shared -s -static-libgcc -o fastseg.dll tmp.def R_init_fastseg.o segment.o segmentCyberT.o -LC:/extsoft/lib/x64 -LC:/extsoft/lib -LD:/biocbuild/bbs-3.15-bioc/R/bin/x64 -lR
installing to D:/biocbuild/bbs-3.15-bioc/meat/fastseg.buildbin-libdir/00LOCK-fastseg/00new/fastseg/libs/x64
** R
** data
** inst
** byte-compile and prepare package for lazy loading
** help
*** installing help indices
  converting help for package 'fastseg'
    finding HTML links ... done
    coriell                                 html  
    fastseg                                 html  
    fastsegData                             html  
    segPlot                                 html  
    toDNAcopyObj                            html  
** building package indices
** installing vignettes
** testing if installed package can be loaded from temporary location
** testing if installed package can be loaded from final location
** testing if installed package keeps a record of temporary installation path
* MD5 sums
packaged installation of 'fastseg' as fastseg_1.41.0.zip
* DONE (fastseg)