Index of /checkResults/devel/bioc-LATEST/fastseg/raw-results/nebbiolo2

[ICO]NameLast modifiedSizeDescription

[DIR]Parent Directory  -  
[   ]install-summary.dcf20-Aug-2022 01:11 259  
[   ]buildsrc-summary.dcf20-Aug-2022 01:11 417  
[   ]checksrc-summary.dcf20-Aug-2022 01:11 423  
[TXT]buildsrc-out.txt20-Aug-2022 01:11 899  
[TXT]checksrc-out.txt20-Aug-2022 01:11 3.3K 
[TXT]install-out.txt20-Aug-2022 01:11 4.0K