Index of /checkResults/devel/bioc-LATEST/fastseg/raw-results/lconway

[ICO]NameLast modifiedSizeDescription

[DIR]Parent Directory  -  
[   ]install-summary.dcf07-Aug-2022 00:07 269  
[   ]buildsrc-summary.dcf07-Aug-2022 00:07 427  
[   ]checksrc-summary.dcf07-Aug-2022 00:07 443  
[   ]buildbin-summary.dcf07-Aug-2022 00:07 530  
[TXT]buildsrc-out.txt07-Aug-2022 00:07 909  
[TXT]checksrc-out.txt07-Aug-2022 00:07 3.3K 
[TXT]install-out.txt07-Aug-2022 00:07 4.0K 
[TXT]buildbin-out.txt07-Aug-2022 00:07 4.8K