Index of /checkResults/devel/bioc-LATEST/fastLiquidAssociation/raw-results

[ICO]NameLast modifiedSizeDescription

[DIR]Parent Directory  -  
[   ]info.dcf20-May-2022 00:07 299  
[DIR]lconway/20-May-2022 00:07 -  
[DIR]nebbiolo2/20-May-2022 00:05 -  
[DIR]palomino4/20-May-2022 00:06 -