![]() | Name | Last modified | Size | Description |
---|---|---|---|---|
![]() | Parent Directory | - | ||
![]() | buildbin-out.txt | 30-Sep-2023 01:03 | 1.1K | |
![]() | buildbin-summary.dcf | 30-Sep-2023 01:03 | 503 | |
![]() | buildsrc-out.txt | 30-Sep-2023 01:03 | 889 | |
![]() | buildsrc-summary.dcf | 30-Sep-2023 01:03 | 442 | |
![]() | checksrc-out.txt | 30-Sep-2023 01:03 | 6.4K | |
![]() | checksrc-summary.dcf | 30-Sep-2023 01:03 | 438 | |
![]() | install-out.txt | 30-Sep-2023 01:03 | 965 | |
![]() | install-summary.dcf | 30-Sep-2023 01:03 | 263 | |