![]() | Name | Last modified | Size | Description |
---|---|---|---|---|
![]() | Parent Directory | - | ||
![]() | buildsrc-out.txt | 05-Oct-2023 00:36 | 861 | |
![]() | buildsrc-summary.dcf | 05-Oct-2023 00:36 | 409 | |
![]() | checksrc-out.txt | 05-Oct-2023 00:36 | 11K | |
![]() | checksrc-summary.dcf | 05-Oct-2023 00:36 | 410 | |
![]() | install-out.txt | 05-Oct-2023 00:36 | 954 | |
![]() | install-summary.dcf | 05-Oct-2023 00:36 | 254 | |