Name | Last modified | Size | Description | |
---|---|---|---|---|
Parent Directory | - | |||
install-out.txt | 30-Apr-2024 00:40 | 1.2K | ||
install-summary.dcf | 30-Apr-2024 00:40 | 266 | ||
buildsrc-out.txt | 30-Apr-2024 00:40 | 872 | ||
buildsrc-summary.dcf | 30-Apr-2024 00:40 | 422 | ||
checksrc-out.txt | 30-Apr-2024 00:40 | 6.5K | ||
checksrc-summary.dcf | 30-Apr-2024 00:40 | 442 | ||