Index of /checkResults/devel/bioc-LATEST/farms/raw-results

[ICO]NameLast modifiedSizeDescription

[DIR]Parent Directory  -  
[   ]info.dcf09-Jun-2023 02:06 261  
[DIR]kunpeng2/09-Jun-2023 02:06 -  
[DIR]lconway/09-Jun-2023 02:05 -  
[DIR]nebbiolo2/09-Jun-2023 02:03 -  
[DIR]palomino4/09-Jun-2023 02:04 -