Back to Multiple platform build/check report for BioC 3.16
ABCDE[F]GHIJKLMNOPQRSTUVWXYZ

This page was generated on 2022-08-11 11:06:36 -0400 (Thu, 11 Aug 2022).

HostnameOSArch (*)R versionInstalled pkgs
nebbiolo2Linux (Ubuntu 20.04.4 LTS)x86_644.2.1 (2022-06-23) -- "Funny-Looking Kid" 4375
palomino4Windows Server 2022 Datacenterx644.2.1 (2022-06-23 ucrt) -- "Funny-Looking Kid" 4159
lconwaymacOS 12.2.1 Montereyx86_644.2.1 Patched (2022-07-09 r82577) -- "Funny-Looking Kid" 4165
Click on any hostname to see more info about the system (e.g. compilers)      (*) as reported by 'uname -p', except on Windows and Mac OS X

INSTALL results for famat on palomino4


To the developers/maintainers of the famat package:
- Please allow up to 24 hours (and sometimes 48 hours) for your latest push to git@git.bioconductor.org:packages/famat.git to
reflect on this report. See How and When does the builder pull? When will my changes propagate? for more information.
- Make sure to use the following settings in order to reproduce any error or warning you see on this page.

raw results

Package 643/2139HostnameOS / ArchINSTALLBUILDCHECKBUILD BIN
famat 1.7.0  (landing page)
Mathieu Charles
Snapshot Date: 2022-08-10 14:00:02 -0400 (Wed, 10 Aug 2022)
git_url: https://git.bioconductor.org/packages/famat
git_branch: master
git_last_commit: 866d8a4
git_last_commit_date: 2022-04-26 12:10:11 -0400 (Tue, 26 Apr 2022)
nebbiolo2Linux (Ubuntu 20.04.4 LTS) / x86_64  ERROR    ERROR  skipped
palomino4Windows Server 2022 Datacenter / x64  ERROR    ERROR  skippedskipped
lconwaymacOS 12.2.1 Monterey / x86_64  ERROR    ERROR  skippedskipped

Summary

Package: famat
Version: 1.7.0
Command: C:\cygwin\bin\curl.exe -O http://155.52.207.166/BBS/3.16/bioc/src/contrib/famat_1.7.0.tar.gz && rm -rf famat.buildbin-libdir && mkdir famat.buildbin-libdir && F:\biocbuild\bbs-3.16-bioc\R\bin\R.exe CMD INSTALL --merge-multiarch --build --library=famat.buildbin-libdir famat_1.7.0.tar.gz && F:\biocbuild\bbs-3.16-bioc\R\bin\R.exe CMD INSTALL famat_1.7.0.zip && rm famat_1.7.0.tar.gz famat_1.7.0.zip
StartedAt: 2022-08-10 16:54:37 -0400 (Wed, 10 Aug 2022)
EndedAt: 2022-08-10 16:54:38 -0400 (Wed, 10 Aug 2022)
EllapsedTime: 1.2 seconds
RetCode: 1
Status:   ERROR  

Command output

##############################################################################
##############################################################################
###
### Running command:
###
###   C:\cygwin\bin\curl.exe -O http://155.52.207.166/BBS/3.16/bioc/src/contrib/famat_1.7.0.tar.gz && rm -rf famat.buildbin-libdir && mkdir famat.buildbin-libdir && F:\biocbuild\bbs-3.16-bioc\R\bin\R.exe CMD INSTALL --merge-multiarch --build --library=famat.buildbin-libdir famat_1.7.0.tar.gz && F:\biocbuild\bbs-3.16-bioc\R\bin\R.exe CMD INSTALL famat_1.7.0.zip && rm famat_1.7.0.tar.gz famat_1.7.0.zip
###
##############################################################################
##############################################################################


  % Total    % Received % Xferd  Average Speed   Time    Time     Time  Current
                                 Dload  Upload   Total   Spent    Left  Speed

  0     0    0     0    0     0      0      0 --:--:-- --:--:-- --:--:--     0
 69 3628k   69 2534k    0     0  10.4M      0 --:--:-- --:--:-- --:--:-- 10.3M
100 3628k  100 3628k    0     0  11.5M      0 --:--:-- --:--:-- --:--:-- 11.5M
only one architecture so ignoring '--merge-multiarch'
ERROR: dependency 'MPINet' is not available for package 'famat'
* removing 'F:/biocbuild/bbs-3.16-bioc/meat/famat.buildbin-libdir/famat'