Index of /checkResults/devel/bioc-LATEST/fabia/raw-results
Name
Last modified
Size
Description
Parent Directory
-
kjohnson1/
05-Jun-2024 03:36
-
kunpeng2/
16-May-2024 02:46
-
merida1/
05-Jun-2024 03:35
-
nebbiolo2/
05-Jun-2024 03:33
-
palomino4/
05-Jun-2024 03:34
-
info.dcf
05-Jun-2024 03:31
272