Back to Multiple platform build/check report for BioC 3.15
ABCDE[F]GHIJKLMNOPQRSTUVWXYZ

This page was generated on 2022-01-17 11:07:17 -0500 (Mon, 17 Jan 2022).

HostnameOSArch (*)R versionInstalled pkgs
nebbiolo1Linux (Ubuntu 20.04.4 LTS)x86_64R Under development (unstable) (2022-01-05 r81451) -- "Unsuffered Consequences" 4161
riesling1Windows Server 2019 Standardx64R Under development (unstable) (2021-11-21 r81221) -- "Unsuffered Consequences" 4056
palomino3Windows Server 2022 Datacenterx64R Under development (unstable) (2021-12-21 r81400 ucrt) -- "Unsuffered Consequences" 3998
merida1macOS 10.14.6 Mojavex86_64R Under development (unstable) (2022-01-05 r81451) -- "Unsuffered Consequences" 4115
Click on any hostname to see more info about the system (e.g. compilers)      (*) as reported by 'uname -p', except on Windows and Mac OS X

BUILD BIN results for fCI on riesling1


To the developers/maintainers of the fCI package:
- Please allow up to 24 hours (and sometimes 48 hours) for your latest push to git@git.bioconductor.org:packages/fCI.git to
reflect on this report. See How and When does the builder pull? When will my changes propagate? here for more information.
- Make sure to use the following settings in order to reproduce any error or warning you see on this page.

raw results

Package 628/2074HostnameOS / ArchINSTALLBUILDCHECKBUILD BIN
fCI 1.25.0  (landing page)
Shaojun Tang
Snapshot Date: 2022-01-16 13:55:18 -0500 (Sun, 16 Jan 2022)
git_url: https://git.bioconductor.org/packages/fCI
git_branch: master
git_last_commit: 76cc2d1
git_last_commit_date: 2021-10-26 12:21:13 -0500 (Tue, 26 Oct 2021)
nebbiolo1Linux (Ubuntu 20.04.4 LTS) / x86_64  OK    OK    OK  UNNEEDED, same version is already published
riesling1Windows Server 2019 Standard / x64  OK    OK    OK    OK  
palomino3Windows Server 2022 Datacenter / x64  OK    OK    OK    OK  UNNEEDED, same version is already published
merida1macOS 10.14.6 Mojave / x86_64  OK    OK    OK    OK  UNNEEDED, same version is already published

Summary

Package: fCI
Version: 1.25.0
Command: rm -rf fCI.buildbin-libdir && mkdir fCI.buildbin-libdir && D:\biocbuild\bbs-3.15-bioc\R\bin\R.exe CMD INSTALL --build --library=fCI.buildbin-libdir fCI_1.25.0.tar.gz
StartedAt: 2022-01-16 20:58:09 -0500 (Sun, 16 Jan 2022)
EndedAt: 2022-01-16 20:59:07 -0500 (Sun, 16 Jan 2022)
EllapsedTime: 58.0 seconds
RetCode: 0
Status:   OK  
PackageFile: fCI_1.25.0.zip
PackageFileSize: 1.356 MiB

Command output

##############################################################################
##############################################################################
###
### Running command:
###
###   rm -rf fCI.buildbin-libdir && mkdir fCI.buildbin-libdir && D:\biocbuild\bbs-3.15-bioc\R\bin\R.exe CMD INSTALL --build --library=fCI.buildbin-libdir fCI_1.25.0.tar.gz
###
##############################################################################
##############################################################################


* installing *source* package 'fCI' ...
** using staged installation
** R
** data
** inst
** byte-compile and prepare package for lazy loading
in method for 'initialize' with signature '"NPCI"': no definition for class "NPCI"
in method for 'normalization' with signature '"NPCI"': no definition for class "NPCI"
in method for 'setfCI' with signature '"NPCI"': no definition for class "NPCI"
in method for 'populate' with signature '"NPCI"': no definition for class "NPCI"
in method for 'find.fci.targets' with signature '"NPCI"': no definition for class "NPCI"
in method for 'show.targets' with signature '"NPCI"': no definition for class "NPCI"
in method for 'call.npci' with signature '"NPCI"': no definition for class "NPCI"
in method for 'compute' with signature '"NPCI"': no definition for class "NPCI"
** help
*** installing help indices
  converting help for package 'fCI'
    finding HTML links ... done
    NPCI-class                              html  
    call.npci-methods                       html  
    call.npci                               html  
    compute-methods                         html  
    compute                                 html  
    deg.pairwise.fold.change                html  
    deg.up.down.info                        html  
    deseq.median.ratio.normalization        html  
    divergence.multivariate.distributions   html  
    fCI-class                               html  
    fCI.call.by.index                       html  
    fci.data                                html  
    figures-methods                         html  
    figures                                 html  
    find.fci.targets-methods                html  
    find.fci.targets                        html  
    find.mid.point                          html  
    get.fold.large.step                     html  
    get.npci.data                           html  
    get.npci.distance.matrix                html  
    get.outline.index                       html  
    get.protein.fold.step                   html  
    get.rank.combinations                   html  
    get.rna.fold.step                       html  
    initialize-methods                      html  
    intersect.of.lists                      html  
    is.installed                            html  
    multi.dimensional.fci.data              html  
    normalization-methods                   html  
    normalization                           html  
    npci.gene.by.pvalues                    html  
    npci.index.reconsidered                 html  
    npci.index.to.be.removed                html  
    npci.venn.diagram                       html  
    pairwise.change.occupancy               html  
    populate-methods                        html  
    populate                                html  
    report.target.summary                   html  
    setfCI-methods                          html  
    setfCI                                  html  
    show.targets-methods                    html  
    show.targets                            html  
    summarize-methods                       html  
    summarize                               html  
    total.library.size.normalization        html  
    trim.size.normalization                 html  
    two.sample.log.ratio                    html  
    two.sample.permutation.test             html  
    venndiagram-methods                     html  
    venndiagram                             html  
** building package indices
** installing vignettes
** testing if installed package can be loaded from temporary location
** testing if installed package can be loaded from final location
** testing if installed package keeps a record of temporary installation path
* MD5 sums
packaged installation of 'fCI' as fCI_1.25.0.zip
* DONE (fCI)