Index of /checkResults/devel/bioc-LATEST/fCI/raw-results

[ICO]NameLast modifiedSizeDescription

[DIR]Parent Directory  -  
[   ]info.dcf22-Jan-2022 01:11 259  
[DIR]merida1/22-Jan-2022 01:11 -  
[DIR]nebbiolo1/22-Jan-2022 01:05 -  
[DIR]palomino3/22-Jan-2022 01:09 -  
[DIR]riesling1/22-Jan-2022 01:07 -