Name | Last modified | Size | Description | |
---|---|---|---|---|
Parent Directory | - | |||
buildbin-out.txt | 18-Feb-2024 16:28 | 5.3K | ||
buildbin-summary.dcf | 18-Feb-2024 16:28 | 546 | ||
buildsrc-out.txt | 05-Mar-2024 01:39 | 1.4K | ||
buildsrc-summary.dcf | 05-Mar-2024 01:39 | 349 | ||
checksrc-out.txt | 18-Feb-2024 16:28 | 4.3K | ||
checksrc-summary.dcf | 18-Feb-2024 16:28 | 455 | ||
install-out.txt | 05-Mar-2024 01:39 | 3.4K | ||
install-summary.dcf | 05-Mar-2024 01:39 | 275 | ||