Back to Multiple platform build/check report for BioC 3.15
ABCD[E]FGHIJKLMNOPQRSTUVWXYZ

This page was generated on 2022-01-21 11:07:29 -0500 (Fri, 21 Jan 2022).

HostnameOSArch (*)R versionInstalled pkgs
nebbiolo1Linux (Ubuntu 20.04.4 LTS)x86_64R Under development (unstable) (2022-01-05 r81451) -- "Unsuffered Consequences" 4163
riesling1Windows Server 2019 Standardx64R Under development (unstable) (2021-11-21 r81221) -- "Unsuffered Consequences" 4058
palomino3Windows Server 2022 Datacenterx64R Under development (unstable) (2021-12-21 r81400 ucrt) -- "Unsuffered Consequences" 4000
merida1macOS 10.14.6 Mojavex86_64R Under development (unstable) (2022-01-05 r81451) -- "Unsuffered Consequences" 4117
Click on any hostname to see more info about the system (e.g. compilers)      (*) as reported by 'uname -p', except on Windows and Mac OS X

BUILD results for exomePeak2 on riesling1


To the developers/maintainers of the exomePeak2 package:
- Please allow up to 24 hours (and sometimes 48 hours) for your latest push to git@git.bioconductor.org:packages/exomePeak2.git to
reflect on this report. See How and When does the builder pull? When will my changes propagate? here for more information.
- Make sure to use the following settings in order to reproduce any error or warning you see on this page.

raw results

Package 612/2075HostnameOS / ArchINSTALLBUILDCHECKBUILD BIN
exomePeak2 1.7.1  (landing page)
Zhen Wei
Snapshot Date: 2022-01-20 13:55:17 -0500 (Thu, 20 Jan 2022)
git_url: https://git.bioconductor.org/packages/exomePeak2
git_branch: master
git_last_commit: 5d8ded6
git_last_commit_date: 2021-11-20 04:00:53 -0500 (Sat, 20 Nov 2021)
nebbiolo1Linux (Ubuntu 20.04.4 LTS) / x86_64  OK    OK    WARNINGS  UNNEEDED, same version is already published
riesling1Windows Server 2019 Standard / x64  OK    OK    WARNINGS    OK  
palomino3Windows Server 2022 Datacenter / x64  OK    OK    WARNINGS    OK  NO, package depends on 'SummarizedExperiment' which is not available
merida1macOS 10.14.6 Mojave / x86_64  OK    OK    WARNINGS    OK  UNNEEDED, same version is already published

Summary

Package: exomePeak2
Version: 1.7.1
Command: chmod a+r exomePeak2 -R && D:\biocbuild\bbs-3.15-bioc\R\bin\R.exe CMD build --keep-empty-dirs --no-resave-data exomePeak2
StartedAt: 2022-01-20 16:39:56 -0500 (Thu, 20 Jan 2022)
EndedAt: 2022-01-20 16:42:03 -0500 (Thu, 20 Jan 2022)
EllapsedTime: 127.0 seconds
RetCode: 0
Status:   OK  
PackageFile: exomePeak2_1.7.1.tar.gz
PackageFileSize: 2.422 MiB

Command output

##############################################################################
##############################################################################
###
### Running command:
###
###   chmod a+r exomePeak2 -R && D:\biocbuild\bbs-3.15-bioc\R\bin\R.exe CMD build --keep-empty-dirs --no-resave-data exomePeak2
###
##############################################################################
##############################################################################


* checking for file 'exomePeak2/DESCRIPTION' ... OK
* preparing 'exomePeak2':
* checking DESCRIPTION meta-information ... OK
* installing the package to build vignettes
* creating vignettes ... OK
* checking for LF line-endings in source and make files and shell scripts
* checking for empty or unneeded directories
Omitted 'LazyData' from DESCRIPTION
  NB: this package now depends on R (>= 3.5.0)
  WARNING: Added dependency on R >= 3.5.0 because serialized objects in
  serialize/load version 3 cannot be read in older versions of R.
  File(s) containing such objects:
    'exomePeak2/inst/extdata/mod_annot.rds'
    'exomePeak2/inst/extdata/sep_ex_dm.rds'
    'exomePeak2/inst/extdata/sep_ex_mod.rds'
* building 'exomePeak2_1.7.1.tar.gz'