Index of /checkResults/devel/bioc-LATEST/exomePeak2/raw-results/palomino3

[ICO]NameLast modifiedSizeDescription

[DIR]Parent Directory  -  
[TXT]buildbin-out.txt02-Mar-2024 01:37 1.1K 
[   ]buildbin-summary.dcf02-Mar-2024 01:37 533  
[TXT]buildsrc-out.txt02-Mar-2024 01:37 854  
[   ]buildsrc-summary.dcf02-Mar-2024 01:37 464  
[TXT]checksrc-out.txt02-Mar-2024 01:37 3.5K 
[   ]checksrc-summary.dcf02-Mar-2024 01:37 459  
[TXT]install-out.txt02-Mar-2024 01:37 971  
[   ]install-summary.dcf02-Mar-2024 01:37 274