![]() | Name | Last modified | Size | Description |
---|---|---|---|---|
![]() | Parent Directory | - | ||
![]() | buildsrc-out.txt | 01-Oct-2023 00:36 | 818 | |
![]() | buildsrc-summary.dcf | 01-Oct-2023 00:36 | 427 | |
![]() | checksrc-out.txt | 01-Oct-2023 00:36 | 5.4K | |
![]() | checksrc-summary.dcf | 01-Oct-2023 00:36 | 430 | |
![]() | install-out.txt | 01-Oct-2023 00:36 | 961 | |
![]() | install-summary.dcf | 01-Oct-2023 00:36 | 265 | |