![]() | Name | Last modified | Size | Description |
---|---|---|---|---|
![]() | Parent Directory | - | ||
![]() | buildbin-out.txt | 28-Sep-2023 00:39 | 1.2K | |
![]() | buildbin-summary.dcf | 28-Sep-2023 00:39 | 548 | |
![]() | buildsrc-out.txt | 28-Sep-2023 00:39 | 828 | |
![]() | buildsrc-summary.dcf | 28-Sep-2023 00:39 | 437 | |
![]() | checksrc-out.txt | 28-Sep-2023 00:39 | 3.6K | |
![]() | checksrc-summary.dcf | 28-Sep-2023 00:39 | 456 | |
![]() | install-out.txt | 28-Sep-2023 00:39 | 1.0K | |
![]() | install-summary.dcf | 28-Sep-2023 00:39 | 275 | |