Index of /checkResults/devel/bioc-LATEST/exomePeak2/raw-results

[ICO]NameLast modifiedSizeDescription

[DIR]Parent Directory  -  
[DIR]kunpeng2/18-Feb-2024 16:29 -  
[DIR]merida1/18-Feb-2024 16:28 -  
[DIR]nebbiolo1/23-Feb-2024 02:48 -  
[DIR]palomino3/23-Feb-2024 02:48 -  
[   ]info.dcf23-Feb-2024 02:48 534