Back to Multiple platform build/check report for BioC 3.15
ABCD[E]FGHIJKLMNOPQRSTUVWXYZ

This page was generated on 2022-01-18 11:07:14 -0500 (Tue, 18 Jan 2022).

HostnameOSArch (*)R versionInstalled pkgs
nebbiolo1Linux (Ubuntu 20.04.4 LTS)x86_64R Under development (unstable) (2022-01-05 r81451) -- "Unsuffered Consequences" 4161
riesling1Windows Server 2019 Standardx64R Under development (unstable) (2021-11-21 r81221) -- "Unsuffered Consequences" 4056
palomino3Windows Server 2022 Datacenterx64R Under development (unstable) (2021-12-21 r81400 ucrt) -- "Unsuffered Consequences" 3998
merida1macOS 10.14.6 Mojavex86_64R Under development (unstable) (2022-01-05 r81451) -- "Unsuffered Consequences" 4115
Click on any hostname to see more info about the system (e.g. compilers)      (*) as reported by 'uname -p', except on Windows and Mac OS X

CHECK results for exomeCopy on riesling1


To the developers/maintainers of the exomeCopy package:
- Please allow up to 24 hours (and sometimes 48 hours) for your latest push to git@git.bioconductor.org:packages/exomeCopy.git to
reflect on this report. See How and When does the builder pull? When will my changes propagate? here for more information.
- Make sure to use the following settings in order to reproduce any error or warning you see on this page.

raw results

Package 611/2074HostnameOS / ArchINSTALLBUILDCHECKBUILD BIN
exomeCopy 1.41.1  (landing page)
Michael Love
Snapshot Date: 2022-01-17 13:55:17 -0500 (Mon, 17 Jan 2022)
git_url: https://git.bioconductor.org/packages/exomeCopy
git_branch: master
git_last_commit: 953e9d0
git_last_commit_date: 2021-11-20 04:00:19 -0500 (Sat, 20 Nov 2021)
nebbiolo1Linux (Ubuntu 20.04.4 LTS) / x86_64  OK    OK    OK  UNNEEDED, same version is already published
riesling1Windows Server 2019 Standard / x64  OK    OK    OK    OK  
palomino3Windows Server 2022 Datacenter / x64  OK    OK    OK    OK  NO, package depends on 'IRanges' which is not available
merida1macOS 10.14.6 Mojave / x86_64  OK    OK    OK    OK  UNNEEDED, same version is already published

Summary

Package: exomeCopy
Version: 1.41.1
Command: D:\biocbuild\bbs-3.15-bioc\R\bin\R.exe CMD check --no-multiarch --install=check:exomeCopy.install-out.txt --library=D:\biocbuild\bbs-3.15-bioc\R\library --no-vignettes --timings exomeCopy_1.41.1.tar.gz
StartedAt: 2022-01-17 18:55:12 -0500 (Mon, 17 Jan 2022)
EndedAt: 2022-01-17 18:57:04 -0500 (Mon, 17 Jan 2022)
EllapsedTime: 111.8 seconds
RetCode: 0
Status:   OK  
CheckDir: exomeCopy.Rcheck
Warnings: 0

Command output

##############################################################################
##############################################################################
###
### Running command:
###
###   D:\biocbuild\bbs-3.15-bioc\R\bin\R.exe CMD check --no-multiarch --install=check:exomeCopy.install-out.txt --library=D:\biocbuild\bbs-3.15-bioc\R\library --no-vignettes --timings exomeCopy_1.41.1.tar.gz
###
##############################################################################
##############################################################################


* using log directory 'D:/biocbuild/bbs-3.15-bioc/meat/exomeCopy.Rcheck'
* using R Under development (unstable) (2021-11-21 r81221)
* using platform: x86_64-w64-mingw32 (64-bit)
* using session charset: ISO8859-1
* using option '--no-vignettes'
* checking for file 'exomeCopy/DESCRIPTION' ... OK
* checking extension type ... Package
* this is package 'exomeCopy' version '1.41.1'
* checking package namespace information ... OK
* checking package dependencies ... OK
* checking if this is a source package ... OK
* checking if there is a namespace ... OK
* checking for hidden files and directories ... OK
* checking for portable file names ... OK
* checking whether package 'exomeCopy' can be installed ... OK
* checking installed package size ... OK
* checking package directory ... OK
* checking 'build' directory ... OK
* checking DESCRIPTION meta-information ... OK
* checking top-level files ... OK
* checking for left-over files ... OK
* checking index information ... OK
* checking package subdirectories ... OK
* checking R files for non-ASCII characters ... OK
* checking R files for syntax errors ... OK
* checking whether the package can be loaded ... OK
* checking whether the package can be loaded with stated dependencies ... OK
* checking whether the package can be unloaded cleanly ... OK
* checking whether the namespace can be loaded with stated dependencies ... OK
* checking whether the namespace can be unloaded cleanly ... OK
* checking dependencies in R code ... OK
* checking S3 generic/method consistency ... NOTE
Found the following apparent S3 methods exported but not registered:
  plot.ExomeCopy
See section 'Registering S3 methods' in the 'Writing R Extensions'
manual.
* checking replacement functions ... OK
* checking foreign function calls ... OK
* checking R code for possible problems ... NOTE
emFn : <anonymous>: no visible global function definition for 'dnbinom'
exomeCopy: no visible global function definition for 'lm'
exomeCopy: no visible global function definition for 'optim'
exomeCopy: no visible global function definition for 'new'
exomeCopy: no visible global function definition for 'Rle'
getGCcontent: no visible global function definition for
  'letterFrequency'
plot.ExomeCopy: no visible global function definition for 'segments'
plot.ExomeCopy: no visible global function definition for 'legend'
plotCompiledCNV: no visible global function definition for 'axis'
plotCompiledCNV: no visible global function definition for 'segments'
plot,ExomeCopy-missing: no visible global function definition for
  'segments'
plot,ExomeCopy-missing: no visible global function definition for
  'legend'
Undefined global functions or variables:
  Rle axis dnbinom legend letterFrequency lm new optim segments
Consider adding
  importFrom("graphics", "axis", "legend", "segments")
  importFrom("methods", "new")
  importFrom("stats", "dnbinom", "lm", "optim")
to your NAMESPACE file (and ensure that your DESCRIPTION Imports field
contains 'methods').
* checking Rd files ... OK
* checking Rd metadata ... OK
* checking Rd cross-references ... OK
* checking for missing documentation entries ... OK
* checking for code/documentation mismatches ... OK
* checking Rd \usage sections ... OK
* checking Rd contents ... OK
* checking for unstated dependencies in examples ... OK
* checking contents of 'data' directory ... OK
* checking data for non-ASCII characters ... OK
* checking data for ASCII and uncompressed saves ... OK
* checking line endings in C/C++/Fortran sources/headers ... OK
* checking compiled code ... NOTE
Note: information on .o files for x64 is not available
File 'D:/biocbuild/bbs-3.15-bioc/R/library/exomeCopy/libs/x64/exomeCopy.dll':
  Found 'abort', possibly from 'abort' (C), 'runtime' (Fortran)

Compiled code should not call entry points which might terminate R nor
write to stdout/stderr instead of to the console, nor use Fortran I/O
nor system RNGs. The detected symbols are linked into the code but
might come from libraries and not actually be called.

See 'Writing portable packages' in the 'Writing R Extensions' manual.
* checking files in 'vignettes' ... OK
* checking examples ... OK
* checking for unstated dependencies in vignettes ... OK
* checking package vignettes in 'inst/doc' ... OK
* checking running R code from vignettes ... SKIPPED
* checking re-building of vignette outputs ... SKIPPED
* checking PDF version of manual ... OK
* DONE

Status: 3 NOTEs
See
  'D:/biocbuild/bbs-3.15-bioc/meat/exomeCopy.Rcheck/00check.log'
for details.



Installation output

exomeCopy.Rcheck/00install.out

##############################################################################
##############################################################################
###
### Running command:
###
###   D:\biocbuild\bbs-3.15-bioc\R\bin\R.exe CMD INSTALL exomeCopy
###
##############################################################################
##############################################################################


* installing to library 'D:/biocbuild/bbs-3.15-bioc/R/library'
* installing *source* package 'exomeCopy' ...
** using staged installation
** libs
"C:/rtools40/mingw64/bin/"gcc  -I"D:/biocbuild/bbs-3.15-bioc/R/include" -DNDEBUG     -I"C:/extsoft/include"     -O2 -Wall  -std=gnu99 -mfpmath=sse -msse2 -mstackrealign -fno-reorder-blocks-and-partition  -c exomeCopy.c -o exomeCopy.o
C:/rtools40/mingw64/bin/gcc -shared -s -static-libgcc -o exomeCopy.dll tmp.def exomeCopy.o -LC:/extsoft/lib/x64 -LC:/extsoft/lib -LD:/biocbuild/bbs-3.15-bioc/R/bin/x64 -lR
installing to D:/biocbuild/bbs-3.15-bioc/R/library/00LOCK-exomeCopy/00new/exomeCopy/libs/x64
** R
** data
** inst
** byte-compile and prepare package for lazy loading
** help
*** installing help indices
  converting help for package 'exomeCopy'
    finding HTML links ... done
    ExomeCopy-class                         html  
    compileCopyCountSegments                html  
    copyCountSegments                       html  
    countBamInGRanges                       html  
    finding level-2 HTML links ... done

    exomeCopy-package                       html  
    exomeCopy                               html  
    exomecounts                             html  
    generateBackground                      html  
    getGCcontent                            html  
    negLogLike                              html  
    plot.exomeCopyObject                    html  
    plotCompiledCNV                         html  
    subdivideGRanges                        html  
** building package indices
** installing vignettes
** testing if installed package can be loaded from temporary location
** testing if installed package can be loaded from final location
** testing if installed package keeps a record of temporary installation path
* DONE (exomeCopy)
Making 'packages.html' ...Warning in packageDescription(i, lib.loc = lib, fields = "Title", encoding = "UTF-8") :
  DESCRIPTION file of package 'ggspavis' is missing or broken
 done

Tests output


Example timings

exomeCopy.Rcheck/exomeCopy-Ex.timings

nameusersystemelapsed
ExomeCopy-class0.010.000.02
compileCopyCountSegments3.910.204.11
copyCountSegments3.590.363.95
countBamInGRanges0.270.000.27
exomeCopy3.370.063.43
generateBackground0.110.000.11
getGCcontent0.020.000.02
negLogLike0.010.000.01
plot.exomeCopyObject4.060.064.14
plotCompiledCNV4.290.004.30
subdivideGRanges0.090.000.09