Name | Last modified | Size | Description | |
---|---|---|---|---|
Parent Directory | - | |||
checksrc-summary.dcf | 17-Jul-2024 00:39 | 428 | ||
checksrc-out.txt | 17-Jul-2024 00:39 | 6.0K | ||
buildsrc-out.txt | 17-Jul-2024 00:39 | 908 | ||
buildsrc-summary.dcf | 17-Jul-2024 00:39 | 428 | ||
install-summary.dcf | 17-Jul-2024 00:39 | 263 | ||
install-out.txt | 17-Jul-2024 00:39 | 1.0K | ||