Back to Multiple platform build/check report for BioC 3.15
ABCD[E]FGHIJKLMNOPQRSTUVWXYZ

This page was generated on 2022-01-28 11:07:43 -0500 (Fri, 28 Jan 2022).

HostnameOSArch (*)R versionInstalled pkgs
nebbiolo1Linux (Ubuntu 20.04.4 LTS)x86_64R Under development (unstable) (2022-01-05 r81451) -- "Unsuffered Consequences" 4167
riesling1Windows Server 2019 Standardx64R Under development (unstable) (2021-11-21 r81221) -- "Unsuffered Consequences" 4062
palomino3Windows Server 2022 Datacenterx64R Under development (unstable) (2021-12-21 r81400 ucrt) -- "Unsuffered Consequences" 4004
merida1macOS 10.14.6 Mojavex86_64R Under development (unstable) (2022-01-05 r81451) -- "Unsuffered Consequences" 4121
Click on any hostname to see more info about the system (e.g. compilers)      (*) as reported by 'uname -p', except on Windows and Mac OS X

INSTALL results for esetVis on riesling1


To the developers/maintainers of the esetVis package:
- Please allow up to 24 hours (and sometimes 48 hours) for your latest push to git@git.bioconductor.org:packages/esetVis.git to
reflect on this report. See How and When does the builder pull? When will my changes propagate? here for more information.
- Make sure to use the following settings in order to reproduce any error or warning you see on this page.

raw results

Package 605/2077HostnameOS / ArchINSTALLBUILDCHECKBUILD BIN
esetVis 1.21.0  (landing page)
Laure Cougnaud
Snapshot Date: 2022-01-27 13:55:17 -0500 (Thu, 27 Jan 2022)
git_url: https://git.bioconductor.org/packages/esetVis
git_branch: master
git_last_commit: b125710
git_last_commit_date: 2021-10-26 12:28:34 -0500 (Tue, 26 Oct 2021)
nebbiolo1Linux (Ubuntu 20.04.4 LTS) / x86_64  OK    OK    OK  UNNEEDED, same version is already published
riesling1Windows Server 2019 Standard / x64  OK    OK    OK    OK  
palomino3Windows Server 2022 Datacenter / x64  OK    OK    OK    OK  NO, package depends on 'MLP' which is not available
merida1macOS 10.14.6 Mojave / x86_64  OK    OK    OK    OK  UNNEEDED, same version is already published

Summary

Package: esetVis
Version: 1.21.0
Command: D:\biocbuild\bbs-3.15-bioc\R\bin\R.exe CMD INSTALL esetVis
StartedAt: 2022-01-27 15:44:26 -0500 (Thu, 27 Jan 2022)
EndedAt: 2022-01-27 15:45:17 -0500 (Thu, 27 Jan 2022)
EllapsedTime: 51.5 seconds
RetCode: 0
Status:   OK  

Command output

##############################################################################
##############################################################################
###
### Running command:
###
###   D:\biocbuild\bbs-3.15-bioc\R\bin\R.exe CMD INSTALL esetVis
###
##############################################################################
##############################################################################


* installing to library 'D:/biocbuild/bbs-3.15-bioc/R/library'
* installing *source* package 'esetVis' ...
** using staged installation
** R
** inst
** byte-compile and prepare package for lazy loading
** help
*** installing help indices
  converting help for package 'esetVis'
    finding HTML links ... done
    characterORexpressionOrCall-class       html  
    esetLda                                 html  
    finding level-2 HTML links ... done

    esetPlot-class                          html  
    esetPlotInteractive-class               html  
    esetPlotWrapper                         html  
    esetSpectralMap                         html  
    esetTsne                                html  
    formatManualScale                       html  
    formatOutput                            html  
    getAxesLimits-methods                   html  
    getCoordGeneSets                        html  
    getDataPlotSamplesWithAnnotation-methods
                                            html  
    getGeneSetsForPlot                      html  
    getMethodsInputObjectEsetVis            html  
    ggPlotEset                              html  
    ggplotEsetPlot-class                    html  
    ggvisEsetPlot-class                     html  
    ggvisPlotEset                           html  
    plotEset-methods                        html  
    plotTopElements                         html  
    rbokehEsetPlot-class                    html  
    rbokehPlotEset                          html  
    setFixElement                           html  
    setManualScale                          html  
    simpleCap                               html  
** building package indices
** installing vignettes
** testing if installed package can be loaded from temporary location
** testing if installed package can be loaded from final location
** testing if installed package keeps a record of temporary installation path
* DONE (esetVis)
Making 'packages.html' ...Warning in packageDescription(i, lib.loc = lib, fields = "Title", encoding = "UTF-8") :
  DESCRIPTION file of package 'Modstrings' is missing or broken
 done