Back to Multiple platform build/check report for BioC 3.17:   simplified   long
ABCD[E]FGHIJKLMNOPQRSTUVWXYZ

This page was generated on 2023-03-24 11:05:55 -0400 (Fri, 24 Mar 2023).

HostnameOSArch (*)R versionInstalled pkgs
nebbiolo1Linux (Ubuntu 22.04.1 LTS)x86_64R Under development (unstable) (2023-03-16 r83996) -- "Unsuffered Consequences" 4546
palomino3Windows Server 2022 Datacenterx64R Under development (unstable) (2023-03-15 r83984 ucrt) -- "Unsuffered Consequences" 4307
merida1macOS 10.14.6 Mojavex86_64R Under development (unstable) (2023-03-16 r83985) -- "Unsuffered Consequences" 4299
Click on any hostname to see more info about the system (e.g. compilers)      (*) as reported by 'uname -p', except on Windows and Mac OS X

BUILD BIN results for esetVis on palomino3


To the developers/maintainers of the esetVis package:
- Please allow up to 24 hours (and sometimes 48 hours) for your latest push to git@git.bioconductor.org:packages/esetVis.git to
reflect on this report. See How and When does the builder pull? When will my changes propagate? for more information.
- Make sure to use the following settings in order to reproduce any error or warning you see on this page.

raw results

Package 647/2195HostnameOS / ArchINSTALLBUILDCHECKBUILD BIN
esetVis 1.25.0  (landing page)
Laure Cougnaud
Snapshot Date: 2023-03-23 14:00:15 -0400 (Thu, 23 Mar 2023)
git_url: https://git.bioconductor.org/packages/esetVis
git_branch: devel
git_last_commit: e7ebb2d
git_last_commit_date: 2022-11-01 11:13:55 -0400 (Tue, 01 Nov 2022)
nebbiolo1Linux (Ubuntu 22.04.1 LTS) / x86_64  OK    OK    OK  UNNEEDED, same version is already published
palomino3Windows Server 2022 Datacenter / x64  OK    OK    OK    OK  UNNEEDED, same version is already published
merida1macOS 10.14.6 Mojave / x86_64  OK    OK    OK    OK  UNNEEDED, same version is already published

Summary

Package: esetVis
Version: 1.25.0
Command: rm -rf esetVis.buildbin-libdir && mkdir esetVis.buildbin-libdir && F:\biocbuild\bbs-3.17-bioc\R\bin\R.exe CMD INSTALL --build --library=esetVis.buildbin-libdir esetVis_1.25.0.tar.gz
StartedAt: 2023-03-24 08:40:35 -0400 (Fri, 24 Mar 2023)
EndedAt: 2023-03-24 08:41:08 -0400 (Fri, 24 Mar 2023)
EllapsedTime: 32.6 seconds
RetCode: 0
Status:   OK  
PackageFile: esetVis_1.25.0.zip
PackageFileSize: 1.839 MiB

Command output

##############################################################################
##############################################################################
###
### Running command:
###
###   rm -rf esetVis.buildbin-libdir && mkdir esetVis.buildbin-libdir && F:\biocbuild\bbs-3.17-bioc\R\bin\R.exe CMD INSTALL --build --library=esetVis.buildbin-libdir esetVis_1.25.0.tar.gz
###
##############################################################################
##############################################################################


* installing *source* package 'esetVis' ...
** using staged installation
** R
** inst
** byte-compile and prepare package for lazy loading
** help
*** installing help indices
** building package indices
** installing vignettes
** testing if installed package can be loaded from temporary location
** testing if installed package can be loaded from final location
** testing if installed package keeps a record of temporary installation path
* MD5 sums
packaged installation of 'esetVis' as esetVis_1.25.0.zip
* DONE (esetVis)