Index of /checkResults/devel/bioc-LATEST/esATAC/raw-results/palomino6
Name
Last modified
Size
Description
Parent Directory
-
buildsrc-out.txt
17-Jul-2024 00:40
949
install-out.txt
17-Jul-2024 00:40
634
buildsrc-summary.dcf
17-Jul-2024 00:40
370
install-summary.dcf
17-Jul-2024 00:40
274