Index of /checkResults/devel/bioc-LATEST/esATAC/raw-results/palomino4
Name
Last modified
Size
Description
Parent Directory
-
buildsrc-out.txt
12-Jun-2024 04:40
937
buildsrc-summary.dcf
12-Jun-2024 04:40
364
install-out.txt
12-Jun-2024 04:40
616
install-summary.dcf
12-Jun-2024 04:40
268