Name | Last modified | Size | Description | |
---|---|---|---|---|
Parent Directory | - | |||
install-summary.dcf | 12-Jun-2024 04:41 | 268 | ||
install-out.txt | 12-Jun-2024 04:41 | 5.5K | ||
checksrc-summary.dcf | 12-Jun-2024 04:41 | 441 | ||
checksrc-out.txt | 12-Jun-2024 04:41 | 5.5K | ||
buildsrc-summary.dcf | 12-Jun-2024 04:41 | 425 | ||
buildsrc-out.txt | 12-Jun-2024 04:41 | 882 | ||
buildbin-summary.dcf | 12-Jun-2024 04:41 | 524 | ||
buildbin-out.txt | 12-Jun-2024 04:41 | 7.5K | ||