Name | Last modified | Size | Description | |
---|---|---|---|---|
Parent Directory | - | |||
install-out.txt | 27-Jul-2024 00:42 | 5.5K | ||
install-summary.dcf | 27-Jul-2024 00:42 | 267 | ||
buildsrc-out.txt | 27-Jul-2024 00:42 | 882 | ||
buildsrc-summary.dcf | 27-Jul-2024 00:42 | 424 | ||
checksrc-out.txt | 27-Jul-2024 00:42 | 5.5K | ||
checksrc-summary.dcf | 27-Jul-2024 00:42 | 440 | ||
buildbin-out.txt | 27-Jul-2024 00:42 | 7.5K | ||
buildbin-summary.dcf | 27-Jul-2024 00:42 | 524 | ||