Back to Multiple platform build/check report for BioC 3.14
ABCD[E]FGHIJKLMNOPQRSTUVWXYZ

This page was generated on 2021-10-22 12:04:25 -0400 (Fri, 22 Oct 2021).

BUILD BIN results for erccdashboard on riesling1

To the developers/maintainers of the erccdashboard package:
- Please allow up to 24 hours (and sometimes 48 hours) for your latest push to git@git.bioconductor.org:packages/erccdashboard.git to
reflect on this report. See How and When does the builder pull? When will my changes propagate? here for more information.
- Make sure to use the following settings in order to reproduce any error or warning you see on this page.

raw results

Package 597/2075HostnameOS / ArchINSTALLBUILDCHECKBUILD BIN
erccdashboard 1.27.0  (landing page)
Sarah Munro
Snapshot Date: 2021-10-21 14:50:08 -0400 (Thu, 21 Oct 2021)
git_url: https://git.bioconductor.org/packages/erccdashboard
git_branch: master
git_last_commit: f194d76
git_last_commit_date: 2021-05-19 12:06:57 -0400 (Wed, 19 May 2021)
nebbiolo2Linux (Ubuntu 20.04.2 LTS) / x86_64  OK    OK    OK  UNNEEDED, same version is already published
riesling1Windows Server 2019 Standard / x64  OK    OK    OK    OK  UNNEEDED, same version is already published
merida1macOS 10.14.6 Mojave / x86_64  OK    OK    OK    NA  

Summary

Package: erccdashboard
Version: 1.27.0
Command: rm -rf erccdashboard.buildbin-libdir && mkdir erccdashboard.buildbin-libdir && D:\biocbuild\bbs-3.14-bioc\R\bin\R.exe CMD INSTALL --merge-multiarch --build --library=erccdashboard.buildbin-libdir erccdashboard_1.27.0.tar.gz
StartedAt: 2021-10-22 05:21:16 -0400 (Fri, 22 Oct 2021)
EndedAt: 2021-10-22 05:25:15 -0400 (Fri, 22 Oct 2021)
EllapsedTime: 239.1 seconds
RetCode: 0
Status:   OK  
PackageFile: erccdashboard_1.27.0.zip
PackageFileSize: 2.172 MiB

Command output

##############################################################################
##############################################################################
###
### Running command:
###
###   rm -rf erccdashboard.buildbin-libdir && mkdir erccdashboard.buildbin-libdir && D:\biocbuild\bbs-3.14-bioc\R\bin\R.exe CMD INSTALL --merge-multiarch --build --library=erccdashboard.buildbin-libdir erccdashboard_1.27.0.tar.gz
###
##############################################################################
##############################################################################



install for i386

* installing *source* package 'erccdashboard' ...
** using staged installation
** R
** data
*** moving datasets to lazyload DB
** inst
** byte-compile and prepare package for lazy loading
** help
*** installing help indices
  converting help for package 'erccdashboard'
    finding HTML links ... done
    ERCC                                    html  
    ERCCDef                                 html  
    ERCCMix1and2                            html  
    MET.CTL.countDat                        html  
    MET.CTL.totalReads                      html  
    SEQC.Example                            html  
    UHRR.HBRR.arrayDat                      html  
    UHRR.HBRR.countDat                      html  
    UHRR.HBRR.totalReads                    html  
    annotLODR                               html  
    dynRangePlot                            html  
    erccROC                                 html  
    estLODR                                 html  
    est_r_m                                 html  
    geneExprTest                            html  
    initDat                                 html  
    maSignal                                html  
    runDashboard                            html  
    saveERCCPlots                           html  
** building package indices
** installing vignettes
** testing if installed package can be loaded from temporary location
** testing if installed package can be loaded from final location
** testing if installed package keeps a record of temporary installation path

install for x64

* installing *source* package 'erccdashboard' ...
** testing if installed package can be loaded
* MD5 sums
packaged installation of 'erccdashboard' as erccdashboard_1.27.0.zip
* DONE (erccdashboard)