Back to Multiple platform build/check report for BioC 3.14
ABCD[E]FGHIJKLMNOPQRSTUVWXYZ

This page was generated on 2021-10-21 12:05:18 -0400 (Thu, 21 Oct 2021).

BUILD results for erccdashboard on merida1

To the developers/maintainers of the erccdashboard package:
- Please allow up to 24 hours (and sometimes 48 hours) for your latest push to git@git.bioconductor.org:packages/erccdashboard.git to
reflect on this report. See How and When does the builder pull? When will my changes propagate? here for more information.
- Make sure to use the following settings in order to reproduce any error or warning you see on this page.

raw results

Package 597/2075HostnameOS / ArchINSTALLBUILDCHECKBUILD BIN
erccdashboard 1.27.0  (landing page)
Sarah Munro
Snapshot Date: 2021-10-20 14:50:05 -0400 (Wed, 20 Oct 2021)
git_url: https://git.bioconductor.org/packages/erccdashboard
git_branch: master
git_last_commit: f194d76
git_last_commit_date: 2021-05-19 12:06:57 -0400 (Wed, 19 May 2021)
nebbiolo2Linux (Ubuntu 20.04.2 LTS) / x86_64  OK    OK    OK  UNNEEDED, same version is already published
riesling1Windows Server 2019 Standard / x64  OK    OK    OK    OK  UNNEEDED, same version is already published
merida1macOS 10.14.6 Mojave / x86_64  OK    OK    OK    OK  UNNEEDED, same version is already published

Summary

Package: erccdashboard
Version: 1.27.0
Command: /Library/Frameworks/R.framework/Resources/bin/R CMD build --keep-empty-dirs --no-resave-data erccdashboard
StartedAt: 2021-10-20 19:53:45 -0400 (Wed, 20 Oct 2021)
EndedAt: 2021-10-20 19:54:57 -0400 (Wed, 20 Oct 2021)
EllapsedTime: 72.0 seconds
RetCode: 0
Status:   OK  
PackageFile: erccdashboard_1.27.0.tar.gz
PackageFileSize: 1.823 MiB

Command output

##############################################################################
##############################################################################
###
### Running command:
###
###   /Library/Frameworks/R.framework/Resources/bin/R CMD build --keep-empty-dirs --no-resave-data erccdashboard
###
##############################################################################
##############################################################################


* checking for file ‘erccdashboard/DESCRIPTION’ ... OK
* preparing ‘erccdashboard’:
* checking DESCRIPTION meta-information ... OK
* installing the package to build vignettes
* creating vignettes ... OK
* checking for LF line-endings in source and make files and shell scripts
* checking for empty or unneeded directories
* building ‘erccdashboard_1.27.0.tar.gz’