Index of /checkResults/devel/bioc-LATEST/epivizrStandalone/raw-results
Name
Last modified
Size
Description
Parent Directory
-
merida1/
21-May-2024 00:37
-
palomino4/
21-May-2024 00:36
-
nebbiolo2/
21-May-2024 00:35
-
info.dcf
21-May-2024 00:34
290
kunpeng2/
16-May-2024 02:46
-