Name | Last modified | Size | Description | |
---|---|---|---|---|
Parent Directory | - | |||
buildbin-out.txt | 27-Jul-2024 00:42 | 1.2K | ||
buildbin-summary.dcf | 27-Jul-2024 00:42 | 554 | ||
buildsrc-out.txt | 27-Jul-2024 00:42 | 872 | ||
buildsrc-summary.dcf | 27-Jul-2024 00:42 | 439 | ||
checksrc-out.txt | 27-Jul-2024 00:42 | 3.1K | ||
checksrc-summary.dcf | 27-Jul-2024 00:42 | 460 | ||
install-out.txt | 27-Jul-2024 00:42 | 1.0K | ||
install-summary.dcf | 27-Jul-2024 00:42 | 277 | ||