![]() | Name | Last modified | Size | Description |
---|---|---|---|---|
![]() | Parent Directory | - | ||
![]() | buildsrc-out.txt | 10-Dec-2023 02:24 | 1.2K | |
![]() | buildsrc-summary.dcf | 10-Dec-2023 02:24 | 426 | |
![]() | checksrc-out.txt | 10-Dec-2023 02:24 | 3.5K | |
![]() | checksrc-summary.dcf | 10-Dec-2023 02:24 | 447 | |
![]() | install-out.txt | 10-Dec-2023 02:24 | 1.0K | |
![]() | install-summary.dcf | 10-Dec-2023 02:24 | 268 | |