Back to Multiple platform build/check report for BioC 3.15
ABCD[E]FGHIJKLMNOPQRSTUVWXYZ

This page was generated on 2022-01-15 11:07:30 -0500 (Sat, 15 Jan 2022).

HostnameOSArch (*)R versionInstalled pkgs
nebbiolo1Linux (Ubuntu 20.04.4 LTS)x86_64R Under development (unstable) (2022-01-05 r81451) -- "Unsuffered Consequences" 4160
riesling1Windows Server 2019 Standardx64R Under development (unstable) (2021-11-21 r81221) -- "Unsuffered Consequences" 4055
palomino3Windows Server 2022 Datacenterx64R Under development (unstable) (2021-12-21 r81400 ucrt) -- "Unsuffered Consequences" 3997
merida1macOS 10.14.6 Mojavex86_64R Under development (unstable) (2022-01-05 r81451) -- "Unsuffered Consequences" 4114
Click on any hostname to see more info about the system (e.g. compilers)      (*) as reported by 'uname -p', except on Windows and Mac OS X

BUILD BIN results for epistack on riesling1


To the developers/maintainers of the epistack package:
- Please allow up to 24 hours (and sometimes 48 hours) for your latest push to git@git.bioconductor.org:packages/epistack.git to
reflect on this report. See How and When does the builder pull? When will my changes propagate? here for more information.
- Make sure to use the following settings in order to reproduce any error or warning you see on this page.

raw results

Package 592/2074HostnameOS / ArchINSTALLBUILDCHECKBUILD BIN
epistack 1.1.2  (landing page)
DEVAILLY Guillaume
Snapshot Date: 2022-01-14 13:55:18 -0500 (Fri, 14 Jan 2022)
git_url: https://git.bioconductor.org/packages/epistack
git_branch: master
git_last_commit: 4d882ca
git_last_commit_date: 2021-11-23 04:57:24 -0500 (Tue, 23 Nov 2021)
nebbiolo1Linux (Ubuntu 20.04.4 LTS) / x86_64  OK    OK    OK  UNNEEDED, same version is already published
riesling1Windows Server 2019 Standard / x64  OK    OK    OK    OK  
palomino3Windows Server 2022 Datacenter / x64  OK    OK    OK    OK  NO, package depends on 'GenomicRanges' which is not available
merida1macOS 10.14.6 Mojave / x86_64  OK    OK    OK    OK  UNNEEDED, same version is already published

Summary

Package: epistack
Version: 1.1.2
Command: rm -rf epistack.buildbin-libdir && mkdir epistack.buildbin-libdir && D:\biocbuild\bbs-3.15-bioc\R\bin\R.exe CMD INSTALL --build --library=epistack.buildbin-libdir epistack_1.1.2.tar.gz
StartedAt: 2022-01-14 20:55:51 -0500 (Fri, 14 Jan 2022)
EndedAt: 2022-01-14 20:56:59 -0500 (Fri, 14 Jan 2022)
EllapsedTime: 68.2 seconds
RetCode: 0
Status:   OK  
PackageFile: epistack_1.1.2.zip
PackageFileSize: 1.42 MiB

Command output

##############################################################################
##############################################################################
###
### Running command:
###
###   rm -rf epistack.buildbin-libdir && mkdir epistack.buildbin-libdir && D:\biocbuild\bbs-3.15-bioc\R\bin\R.exe CMD INSTALL --build --library=epistack.buildbin-libdir epistack_1.1.2.tar.gz
###
##############################################################################
##############################################################################


* installing *source* package 'epistack' ...
** using staged installation
** R
** data
** inst
** byte-compile and prepare package for lazy loading
** help
*** installing help indices
  converting help for package 'epistack'
    finding HTML links ... done
    GRanges2RSE                             html  
    addBins                                 html  
    addMetricAndArrangeGRanges              html  
    addMetricAndArrangeRSE                  html  
    meanColor                               html  
    plotAverageProfile                      html  
    plotBinning                             html  
    plotBoxMetric                           html  
    plotEpistack                            html  
    plotMetric                              html  
    plotStackProfile                        html  
    plotStackProfileLegend                  html  
    redimMatrix                             html  
    stackepi                                html  
    stackepi_gr                             html  
** building package indices
** installing vignettes
** testing if installed package can be loaded from temporary location
** testing if installed package can be loaded from final location
** testing if installed package keeps a record of temporary installation path
* MD5 sums
packaged installation of 'epistack' as epistack_1.1.2.zip
* DONE (epistack)