Index of /checkResults/devel/bioc-LATEST/epistack/raw-results/nebbiolo2

[ICO]NameLast modifiedSizeDescription

[DIR]Parent Directory  -  
[TXT]buildsrc-out.txt02-Jul-2022 00:04 872  
[   ]buildsrc-summary.dcf02-Jul-2022 00:04 418  
[TXT]checksrc-out.txt02-Jul-2022 00:04 3.1K 
[   ]checksrc-summary.dcf02-Jul-2022 00:04 426  
[TXT]install-out.txt02-Jul-2022 00:04 958  
[   ]install-summary.dcf02-Jul-2022 00:04 260