Name | Last modified | Size | Description | |
---|---|---|---|---|
Parent Directory | - | |||
buildbin-summary.dcf | 28-Jul-2024 00:39 | 542 | ||
buildbin-out.txt | 28-Jul-2024 00:39 | 1.9K | ||
checksrc-summary.dcf | 28-Jul-2024 00:39 | 465 | ||
checksrc-out.txt | 28-Jul-2024 00:39 | 4.6K | ||
buildsrc-summary.dcf | 28-Jul-2024 00:39 | 471 | ||
buildsrc-out.txt | 28-Jul-2024 00:39 | 955 | ||
install-summary.dcf | 28-Jul-2024 00:39 | 277 | ||
install-out.txt | 28-Jul-2024 00:39 | 1.8K | ||