Index of /checkResults/devel/bioc-LATEST/epimutacions/raw-results/palomino3

[ICO]NameLast modifiedSizeDescription

[DIR]Parent Directory  -  
[TXT]buildbin-out.txt29-Mar-2024 00:37 1.9K 
[   ]buildbin-summary.dcf29-Mar-2024 00:37 542  
[TXT]buildsrc-out.txt29-Mar-2024 00:37 955  
[   ]buildsrc-summary.dcf29-Mar-2024 00:37 471  
[TXT]checksrc-out.txt29-Mar-2024 00:37 4.8K 
[   ]checksrc-summary.dcf29-Mar-2024 00:37 465  
[TXT]install-out.txt29-Mar-2024 00:37 1.8K 
[   ]install-summary.dcf29-Mar-2024 00:37 277