Name | Last modified | Size | Description | |
---|---|---|---|---|
Parent Directory | - | |||
buildbin-out.txt | 12-Jun-2024 04:41 | 4.2K | ||
buildbin-summary.dcf | 12-Jun-2024 04:41 | 558 | ||
buildsrc-out.txt | 12-Jun-2024 04:41 | 928 | ||
buildsrc-summary.dcf | 12-Jun-2024 04:41 | 441 | ||
checksrc-out.txt | 12-Jun-2024 04:41 | 4.3K | ||
checksrc-summary.dcf | 12-Jun-2024 04:41 | 462 | ||
install-out.txt | 12-Jun-2024 04:41 | 2.0K | ||
install-summary.dcf | 12-Jun-2024 04:41 | 279 | ||