Name | Last modified | Size | Description | |
---|---|---|---|---|
Parent Directory | - | |||
buildbin-out.txt | 27-Jul-2024 00:41 | 4.2K | ||
buildbin-summary.dcf | 27-Jul-2024 00:41 | 557 | ||
buildsrc-out.txt | 27-Jul-2024 00:41 | 928 | ||
buildsrc-summary.dcf | 27-Jul-2024 00:41 | 441 | ||
checksrc-out.txt | 27-Jul-2024 00:41 | 4.3K | ||
checksrc-summary.dcf | 27-Jul-2024 00:41 | 462 | ||
install-out.txt | 27-Jul-2024 00:41 | 2.0K | ||
install-summary.dcf | 27-Jul-2024 00:41 | 278 | ||