Name | Last modified | Size | Description | |
---|---|---|---|---|
Parent Directory | - | |||
install-summary.dcf | 12-Jun-2024 04:43 | 278 | ||
install-out.txt | 12-Jun-2024 04:43 | 2.0K | ||
checksrc-summary.dcf | 12-Jun-2024 04:43 | 462 | ||
checksrc-out.txt | 12-Jun-2024 04:43 | 4.3K | ||
buildsrc-summary.dcf | 12-Jun-2024 04:43 | 441 | ||
buildsrc-out.txt | 12-Jun-2024 04:43 | 928 | ||
buildbin-summary.dcf | 12-Jun-2024 04:43 | 557 | ||
buildbin-out.txt | 12-Jun-2024 04:43 | 4.2K | ||