Back to Multiple platform build/check report for BioC 3.15
ABCD[E]FGHIJKLMNOPQRSTUVWXYZ

This page was generated on 2022-01-27 11:07:08 -0500 (Thu, 27 Jan 2022).

HostnameOSArch (*)R versionInstalled pkgs
nebbiolo1Linux (Ubuntu 20.04.4 LTS)x86_64R Under development (unstable) (2022-01-05 r81451) -- "Unsuffered Consequences" 4167
riesling1Windows Server 2019 Standardx64R Under development (unstable) (2021-11-21 r81221) -- "Unsuffered Consequences" 4062
palomino3Windows Server 2022 Datacenterx64R Under development (unstable) (2021-12-21 r81400 ucrt) -- "Unsuffered Consequences" 4004
merida1macOS 10.14.6 Mojavex86_64R Under development (unstable) (2022-01-05 r81451) -- "Unsuffered Consequences" 4121
Click on any hostname to see more info about the system (e.g. compilers)      (*) as reported by 'uname -p', except on Windows and Mac OS X

BUILD results for epihet on riesling1


To the developers/maintainers of the epihet package:
- Please allow up to 24 hours (and sometimes 48 hours) for your latest push to git@git.bioconductor.org:packages/epihet.git to
reflect on this report. See How and When does the builder pull? When will my changes propagate? here for more information.
- Make sure to use the following settings in order to reproduce any error or warning you see on this page.

raw results

Package 591/2077HostnameOS / ArchINSTALLBUILDCHECKBUILD BIN
epihet 1.11.1  (landing page)
Xiaowen Chen
Snapshot Date: 2022-01-26 13:55:18 -0500 (Wed, 26 Jan 2022)
git_url: https://git.bioconductor.org/packages/epihet
git_branch: master
git_last_commit: ec4edcc
git_last_commit_date: 2021-11-18 20:22:56 -0500 (Thu, 18 Nov 2021)
nebbiolo1Linux (Ubuntu 20.04.4 LTS) / x86_64  OK    OK    OK  UNNEEDED, same version is already published
riesling1Windows Server 2019 Standard / x64  OK    OK    OK    NA  
palomino3Windows Server 2022 Datacenter / x64  OK    OK    OK    OK  NO, package depends on 'GenomicRanges' which is not available
merida1macOS 10.14.6 Mojave / x86_64  OK    OK    OK    OK  NO, package depends on 'ReactomePA' which is not available

Summary

Package: epihet
Version: 1.11.1
Command: chmod a+r epihet -R && D:\biocbuild\bbs-3.15-bioc\R\bin\R.exe CMD build --keep-empty-dirs --no-resave-data epihet
StartedAt: 2022-01-26 16:40:27 -0500 (Wed, 26 Jan 2022)
EndedAt: 2022-01-26 16:42:01 -0500 (Wed, 26 Jan 2022)
EllapsedTime: 94.1 seconds
RetCode: 0
Status:   OK  
PackageFile: epihet_1.11.1.tar.gz
PackageFileSize: 789.1 KiB

Command output

##############################################################################
##############################################################################
###
### Running command:
###
###   chmod a+r epihet -R && D:\biocbuild\bbs-3.15-bioc\R\bin\R.exe CMD build --keep-empty-dirs --no-resave-data epihet
###
##############################################################################
##############################################################################


* checking for file 'epihet/DESCRIPTION' ... OK
* preparing 'epihet':
* checking DESCRIPTION meta-information ... OK
* installing the package to build vignettes
* creating vignettes ... OK
* checking for LF line-endings in source and make files and shell scripts
* checking for empty or unneeded directories
* looking to see if a 'data/datalist' file should be added
* building 'epihet_1.11.1.tar.gz'