Back to Multiple platform build/check report for BioC 3.15
ABCD[E]FGHIJKLMNOPQRSTUVWXYZ

This page was generated on 2022-01-21 11:07:28 -0500 (Fri, 21 Jan 2022).

HostnameOSArch (*)R versionInstalled pkgs
nebbiolo1Linux (Ubuntu 20.04.4 LTS)x86_64R Under development (unstable) (2022-01-05 r81451) -- "Unsuffered Consequences" 4163
riesling1Windows Server 2019 Standardx64R Under development (unstable) (2021-11-21 r81221) -- "Unsuffered Consequences" 4058
palomino3Windows Server 2022 Datacenterx64R Under development (unstable) (2021-12-21 r81400 ucrt) -- "Unsuffered Consequences" 4000
merida1macOS 10.14.6 Mojavex86_64R Under development (unstable) (2022-01-05 r81451) -- "Unsuffered Consequences" 4117
Click on any hostname to see more info about the system (e.g. compilers)      (*) as reported by 'uname -p', except on Windows and Mac OS X

BUILD BIN results for epihet on riesling1


To the developers/maintainers of the epihet package:
- Please allow up to 24 hours (and sometimes 48 hours) for your latest push to git@git.bioconductor.org:packages/epihet.git to
reflect on this report. See How and When does the builder pull? When will my changes propagate? here for more information.
- Make sure to use the following settings in order to reproduce any error or warning you see on this page.

raw results

Package 590/2075HostnameOS / ArchINSTALLBUILDCHECKBUILD BIN
epihet 1.11.1  (landing page)
Xiaowen Chen
Snapshot Date: 2022-01-20 13:55:17 -0500 (Thu, 20 Jan 2022)
git_url: https://git.bioconductor.org/packages/epihet
git_branch: master
git_last_commit: ec4edcc
git_last_commit_date: 2021-11-18 20:22:56 -0500 (Thu, 18 Nov 2021)
nebbiolo1Linux (Ubuntu 20.04.4 LTS) / x86_64  OK    OK    OK  UNNEEDED, same version is already published
riesling1Windows Server 2019 Standard / x64  OK    OK    OK    OK  
palomino3Windows Server 2022 Datacenter / x64  OK    OK    OK    OK  NO, package depends on 'GenomicRanges' which is not available
merida1macOS 10.14.6 Mojave / x86_64  OK    OK    OK    OK  NO, package depends on 'ReactomePA' which is not available

Summary

Package: epihet
Version: 1.11.1
Command: rm -rf epihet.buildbin-libdir && mkdir epihet.buildbin-libdir && D:\biocbuild\bbs-3.15-bioc\R\bin\R.exe CMD INSTALL --build --library=epihet.buildbin-libdir epihet_1.11.1.tar.gz
StartedAt: 2022-01-20 20:51:58 -0500 (Thu, 20 Jan 2022)
EndedAt: 2022-01-20 20:53:01 -0500 (Thu, 20 Jan 2022)
EllapsedTime: 63.6 seconds
RetCode: 0
Status:   OK  
PackageFile: epihet_1.11.1.zip
PackageFileSize: 901.6 KiB

Command output

##############################################################################
##############################################################################
###
### Running command:
###
###   rm -rf epihet.buildbin-libdir && mkdir epihet.buildbin-libdir && D:\biocbuild\bbs-3.15-bioc\R\bin\R.exe CMD INSTALL --build --library=epihet.buildbin-libdir epihet_1.11.1.tar.gz
###
##############################################################################
##############################################################################


* installing *source* package 'epihet' ...
** using staged installation
** R
** data
** inst
** byte-compile and prepare package for lazy loading
** help
*** installing help indices
  converting help for package 'epihet'
    finding HTML links ... done
    compMatrix                              html  
    data                                    html  
    diffHet                                 html  
    epiBox                                  html  
    epiMA                                   html  
    epiMap                                  html  
    epiNetwork                              html  
    epiPCA                                  html  
    epiPathway                              html  
    epiTSNE                                 html  
    jaccard                                 html  
    makeGR                                  html  
    moduleAnno                              html  
    moduleSim                               html  
    moduleVisual                            html  
    readGR                                  html  
    shannon                                 html  
    splitn                                  html  
    summarize                               html  
    userobj                                 html  
** building package indices
** installing vignettes
** testing if installed package can be loaded from temporary location
** testing if installed package can be loaded from final location
** testing if installed package keeps a record of temporary installation path
* MD5 sums
packaged installation of 'epihet' as epihet_1.11.1.zip
* DONE (epihet)