Back to Multiple platform build/check report for BioC 3.15
ABCD[E]FGHIJKLMNOPQRSTUVWXYZ

This page was generated on 2022-01-18 11:07:13 -0500 (Tue, 18 Jan 2022).

HostnameOSArch (*)R versionInstalled pkgs
nebbiolo1Linux (Ubuntu 20.04.4 LTS)x86_64R Under development (unstable) (2022-01-05 r81451) -- "Unsuffered Consequences" 4161
riesling1Windows Server 2019 Standardx64R Under development (unstable) (2021-11-21 r81221) -- "Unsuffered Consequences" 4056
palomino3Windows Server 2022 Datacenterx64R Under development (unstable) (2021-12-21 r81400 ucrt) -- "Unsuffered Consequences" 3998
merida1macOS 10.14.6 Mojavex86_64R Under development (unstable) (2022-01-05 r81451) -- "Unsuffered Consequences" 4115
Click on any hostname to see more info about the system (e.g. compilers)      (*) as reported by 'uname -p', except on Windows and Mac OS X

BUILD results for epigraHMM on riesling1


To the developers/maintainers of the epigraHMM package:
- Please allow up to 24 hours (and sometimes 48 hours) for your latest push to git@git.bioconductor.org:packages/epigraHMM.git to
reflect on this report. See How and When does the builder pull? When will my changes propagate? here for more information.
- Make sure to use the following settings in order to reproduce any error or warning you see on this page.

raw results

Package 589/2074HostnameOS / ArchINSTALLBUILDCHECKBUILD BIN
epigraHMM 1.3.2  (landing page)
Pedro Baldoni
Snapshot Date: 2022-01-17 13:55:17 -0500 (Mon, 17 Jan 2022)
git_url: https://git.bioconductor.org/packages/epigraHMM
git_branch: master
git_last_commit: a2e5af4
git_last_commit_date: 2022-01-13 17:00:11 -0500 (Thu, 13 Jan 2022)
nebbiolo1Linux (Ubuntu 20.04.4 LTS) / x86_64  OK    OK    OK  UNNEEDED, same version is already published
riesling1Windows Server 2019 Standard / x64  OK    OK    OK    OK  
palomino3Windows Server 2022 Datacenter / x64  OK    OK    OK    OK  NO, package depends on 'SummarizedExperiment' which is not available
merida1macOS 10.14.6 Mojave / x86_64  OK    OK    OK    OK  UNNEEDED, same version is already published

Summary

Package: epigraHMM
Version: 1.3.2
Command: chmod a+r epigraHMM -R && D:\biocbuild\bbs-3.15-bioc\R\bin\R.exe CMD build --keep-empty-dirs --no-resave-data epigraHMM
StartedAt: 2022-01-17 16:44:12 -0500 (Mon, 17 Jan 2022)
EndedAt: 2022-01-17 17:11:19 -0500 (Mon, 17 Jan 2022)
EllapsedTime: 1627.0 seconds
RetCode: 0
Status:   OK  
PackageFile: epigraHMM_1.3.2.tar.gz
PackageFileSize: 478.4 KiB

Command output

##############################################################################
##############################################################################
###
### Running command:
###
###   chmod a+r epigraHMM -R && D:\biocbuild\bbs-3.15-bioc\R\bin\R.exe CMD build --keep-empty-dirs --no-resave-data epigraHMM
###
##############################################################################
##############################################################################


* checking for file 'epigraHMM/DESCRIPTION' ... OK
* preparing 'epigraHMM':
* checking DESCRIPTION meta-information ... OK
* cleaning src
* installing the package to build vignettes
* creating vignettes ... OK
* cleaning src
* checking for LF line-endings in source and make files and shell scripts
* checking for empty or unneeded directories
  NB: this package now depends on R (>= 3.5.0)
  WARNING: Added dependency on R >= 3.5.0 because serialized objects in
  serialize/load version 3 cannot be read in older versions of R.
  File(s) containing such objects:
    'epigraHMM/data/helas3.rda'
* building 'epigraHMM_1.3.2.tar.gz'