Name | Last modified | Size | Description | |
---|---|---|---|---|
Parent Directory | - | |||
install-summary.dcf | 12-Jun-2024 04:40 | 273 | ||
install-out.txt | 12-Jun-2024 04:40 | 8.0K | ||
checksrc-summary.dcf | 12-Jun-2024 04:40 | 455 | ||
checksrc-out.txt | 12-Jun-2024 04:40 | 4.9K | ||
buildsrc-summary.dcf | 12-Jun-2024 04:40 | 460 | ||
buildsrc-out.txt | 12-Jun-2024 04:40 | 1.1K | ||
buildbin-summary.dcf | 12-Jun-2024 04:40 | 528 | ||
buildbin-out.txt | 12-Jun-2024 04:40 | 8.2K | ||