Index of /checkResults/devel/bioc-LATEST/epigraHMM/raw-results/nebbiolo2

[ICO]NameLast modifiedSizeDescription

[DIR]Parent Directory  -  
[TXT]buildsrc-out.txt02-Jul-2022 00:04 1.1K 
[   ]buildsrc-summary.dcf02-Jul-2022 00:04 422  
[TXT]checksrc-out.txt02-Jul-2022 00:04 4.7K 
[   ]checksrc-summary.dcf02-Jul-2022 00:04 430  
[TXT]install-out.txt02-Jul-2022 00:04 7.2K 
[   ]install-summary.dcf02-Jul-2022 00:04 263