Name | Last modified | Size | Description | |
---|---|---|---|---|
Parent Directory | - | |||
install-out.txt | 28-Mar-2024 00:39 | 9.4K | ||
install-summary.dcf | 28-Mar-2024 00:39 | 274 | ||
buildsrc-out.txt | 28-Mar-2024 00:39 | 1.1K | ||
buildsrc-summary.dcf | 28-Mar-2024 00:39 | 434 | ||
checksrc-out.txt | 28-Mar-2024 00:39 | 5.1K | ||
checksrc-summary.dcf | 28-Mar-2024 00:39 | 458 | ||
buildbin-out.txt | 28-Mar-2024 00:39 | 13K | ||
buildbin-summary.dcf | 28-Mar-2024 00:39 | 543 | ||