Name | Last modified | Size | Description | |
---|---|---|---|---|
Parent Directory | - | |||
buildsrc-out.txt | 09-Jul-2024 00:44 | 1.0K | ||
buildsrc-summary.dcf | 09-Jul-2024 00:44 | 326 | ||
checksrc-out.txt | 05-Jul-2024 00:44 | 5.0K | ||
checksrc-summary.dcf | 05-Jul-2024 00:44 | 419 | ||
install-out.txt | 07-Jul-2024 00:44 | 7.1K | ||
install-summary.dcf | 07-Jul-2024 00:44 | 252 | ||